BEGIN:VCALENDAR
VERSION:2.0
PRODID:-//Court Cast - ECPv6.6.3//NONSGML v1.0//EN
CALSCALE:GREGORIAN
METHOD:PUBLISH
X-ORIGINAL-URL:https://courtscast.com
X-WR-CALDESC:Events for Court Cast
REFRESH-INTERVAL;VALUE=DURATION:PT1H
X-Robots-Tag:noindex
X-PUBLISHED-TTL:PT1H
BEGIN:VTIMEZONE
TZID:Europe/London
BEGIN:DAYLIGHT
TZOFFSETFROM:+0000
TZOFFSETTO:+0100
TZNAME:BST
DTSTART:20240331T010000
END:DAYLIGHT
BEGIN:STANDARD
TZOFFSETFROM:+0100
TZOFFSETTO:+0000
TZNAME:GMT
DTSTART:20241027T010000
END:STANDARD
END:VTIMEZONE
BEGIN:VEVENT
DTSTART;TZID=Europe/London:20240110T100000
DTEND;TZID=Europe/London:20240110T120000
DTSTAMP:20260424T093931
CREATED:20231210T180646Z
LAST-MODIFIED:20231210T180646Z
UID:10000020-1704880800-1704888000@courtscast.com
SUMMARY:London Law Clinics Round Table – Hosted by UCL iLAC
DESCRIPTION:An opportunity to meet\, share experiences and discuss current issues effecting  law clinics.\n\n\nJoin us for the first London Law Clinics Roundtable – 10th Jan 2024 \n \nCLEO encourages the growth of regional networks in the clinic community to collaborate\, build a supportive environment\, and share best practice. The Integrated Legal Advice Clinic at University College London are hosting this first regional meeting for Student Law Clinic staff in London. This will be an opportunity to meet\, share experiences and discuss current issues effecting clinics. We warmly welcome all staff from Law Clinics; administrators\, coordinators\, academics etc. This event is intended to be an informal and supportive gathering to share best practice. The discussion theme for this first meeting will be ‘How to build effective inductions giving all the information without saturating students’ although we anticipate broader conversations as well. \nLocation: UCL Integrated Legal Advice Clinic (UCL iLAC)\, Solar House (3rd Floor)| 1-9 Romford Road| London E15 4L \nLooking to the future we hope to have this roundtable once or twice in each academic year at different institutions in London. If you have any queries about this event then please email r.knowles@ucl.ac.uk. If you would be interested in starting a student law clinic network in your region then please get in touch with the CLEO events team at info@cleo-uk.org.
URL:https://courtscast.com/event/london-law-clinics-round-table-hosted-by-ucl-ilac/
LOCATION:Solar House\, 1-9 Romford Road\, London\, E15 4LJ\, London\, E15 4LJ\, GB
ATTACH;FMTTYPE=image/jpeg:https://courtscast.com/wp-content/uploads/2023/12/110396_image-scaled.jpg
END:VEVENT
END:VCALENDAR